BEGIN:VCALENDAR
VERSION:2.0
PRODID:-//Plone.org//NONSGML plone.app.event//EN
X-WR-TIMEZONE:Europe/Helsinki
BEGIN:VEVENT
SUMMARY:ChangeNOW 2026
DTSTART;VALUE=DATE:20260330
DTEND;VALUE=DATE:20260402
DTSTAMP:20260419T141845Z
UID:f4a85ff6dd2046788cf8ed3653d5c7ab@climate-adapt.eea.europa.eu
CATEGORIES:Conference
CONTACT:https://www.changenow.world/join-changenow-2026/
CREATED:20260227T110020Z
DESCRIPTION:The ChangeNOW conference centers on major issues of our centur
 y and the concrete actions to be taken to build a sustainable world\, incl
 uding climate adaptation. The event will convene 40\,000 participants\, in
 cluding 10\,000 companies and 1\,200 investors\, alongside cities\, policy
  leaders\, scientists\, and civil society representatives\, as well as lea
 ding voices.
LAST-MODIFIED:20260302T112643Z
LOCATION:Paris\, France
URL:https://climate-adapt.eea.europa.eu/en/more-events/changenow-2026
END:VEVENT
END:VCALENDAR
