BEGIN:VCALENDAR
VERSION:2.0
PRODID:-//Plone.org//NONSGML plone.app.event//EN
X-WR-TIMEZONE:Europe/Helsinki
BEGIN:VEVENT
SUMMARY:Coastal Communities Adapting Together online event: Exchanging Kno
 wledge and Best Practice Across Borders 2021
DTSTART;VALUE=DATE:20211019
DTEND;VALUE=DATE:20211023
DTSTAMP:20260423T160224Z
UID:f0156fd4f366489bb4d9a129b1dc9b0e@varnish:6081
CONTACT:https://www.ccatproject.eu/event/ccat-2021-exchanging-knowledge-an
 d-best-practice-across-borders-2021/
CREATED:20210810T065953Z
DESCRIPTION:This second Coastal Communities Adapting Together (CCAT) onlin
 e event brings together practitioners and academics\, with expertise in po
 licymaking\, coastal management\, climate change adaptation\, community en
 gagement and is about debating the best practices in supporting coastal co
 mmunities in Wales and Ireland to understand the impact of climate change\
 , and how it might impact their local communities. CCAT is an Interreg pro
 ject funded through the Ireland Wales Cooperation Programme.
LAST-MODIFIED:20220910T183615Z
LOCATION:Online
URL:https://climate-adapt.eea.europa.eu/en/more-events/coastal-communities
 -adapting-together-project-event-exchanging-knowledge-and-best-practice-ac
 ross-borders-2021
END:VEVENT
END:VCALENDAR
