BEGIN:VCALENDAR
VERSION:2.0
PRODID:-//Plone.org//NONSGML plone.app.event//EN
X-WR-TIMEZONE:Europe/Helsinki
BEGIN:VEVENT
SUMMARY:Ecocity World Summit 2021
DTSTART;VALUE=DATE:20210927
DTEND;VALUE=DATE:20211001
DTSTAMP:20260425T042633Z
UID:f54df5c04e5a4d159c1c0ca76ed6ca9d@varnish:6081
CATEGORIES:event
CONTACT:https://ecocity-summit.com/
CREATED:20210319T095845Z
DESCRIPTION:The 14th edition of the longest running summit on sustainable 
 cities invites experts\, innovators\, researchers\, engineers\, designers\
 , policy makers\, environmentalists\, teachers and students to explore urb
 an transformations for nature-based solutions to adapt on climate change.
LAST-MODIFIED:20220910T183615Z
LOCATION:Rotterdam and online
URL:https://climate-adapt.eea.europa.eu/en/more-events/ecocity-world-summi
 t-2021
END:VEVENT
END:VCALENDAR
