BEGIN:VCALENDAR
VERSION:2.0
PRODID:-//Plone.org//NONSGML plone.app.event//EN
X-WR-TIMEZONE:Europe/Helsinki
BEGIN:VEVENT
SUMMARY:Conference Eurosoil 2020/2021
DTSTART;VALUE=DATE:20210823
DTEND;VALUE=DATE:20210829
DTSTAMP:20260420T082928Z
UID:a9abb30f895a4af1b653173578165e58@varnish:6081
CATEGORIES:event,event
CONTACT:https://eurosoil2020.com/
CREATED:20200227T140630Z
DESCRIPTION:The objective of this conference is to bring together leading 
 research scientists working on soil related topics and stakeholders dealin
 g with issues of public concern\, such as soil degradation and consequence
 s of climatic changes. The important bridging role of soil practitioners t
 o translate scientific knowledge into practice will be emphasized during t
 he conference.
LAST-MODIFIED:20220910T183614Z
LOCATION:Geneva\, Switzerland
URL:https://climate-adapt.eea.europa.eu/en/more-events/eurosoil-conference
END:VEVENT
END:VCALENDAR
