BEGIN:VCALENDAR
VERSION:2.0
PRODID:-//Plone.org//NONSGML plone.app.event//EN
X-WR-TIMEZONE:Europe/Helsinki
BEGIN:VEVENT
SUMMARY:Life Adaptate Conference
DTSTART;VALUE=DATE:20210916
DTEND;VALUE=DATE:20210918
DTSTAMP:20260419T205352Z
UID:ffb22830d5d747488ab5d39c5a22f6c7@varnish:6081
CATEGORIES:cities,event
CONTACT:https://event.meetmaps.com/lifeadaptatefinalconference/en/landing
CREATED:20210812T114926Z
DESCRIPTION:The EU funded Life Adaptate project organizes its final confer
 ence to present and exchange the latest advances in climate change researc
 h in six countries and municipalities. The aim of this conference is to br
 ing together scientists\, policymakers\, organizations and citizens engage
 d with climate change impacts and adaptation in the urban environment.
LAST-MODIFIED:20220910T183615Z
LOCATION:Online
URL:https://climate-adapt.eea.europa.eu/en/more-events/life-adaptate-confe
 rence
END:VEVENT
END:VCALENDAR
