BEGIN:VCALENDAR
VERSION:2.0
PRODID:-//Plone.org//NONSGML plone.app.event//EN
X-WR-TIMEZONE:Europe/Helsinki
BEGIN:VEVENT
SUMMARY:LIFE Info Days
DTSTART;TZID=Europe/Helsinki:20260428T100000
DTEND;TZID=Europe/Helsinki:20260430T133000
DTSTAMP:20260423T143435Z
UID:7b0f6cef7737449ea51429e72ae12ab0@climate-adapt.eea.europa.eu
CONTACT:https://cinea.ec.europa.eu/news-events/news/getting-ready-life-cal
 ls-proposals-2026-save-dates-2026-02-12_en
CREATED:20260422T080824Z
DESCRIPTION:Following the publication of the LIFE Calls for proposals 2026
  on 21 April\, a series of online info days will be organised by the Europ
 ean Climate\, Infrastructure and Environment Executive Agency (CINEA) to g
 uide potential applicants. Dedicated information sessions will provide ins
 ight into the priority topics for 2026 and give advice on how to prepare a
  good project proposal. Climate adaptation is one of the key areas in the 
 call for proposals and the session relevant to adaptation will take place 
 on day 2 of Info Days. 
LAST-MODIFIED:20260422T102847Z
LOCATION:Online event
URL:https://climate-adapt.eea.europa.eu/en/more-events/life-info-days
END:VEVENT
BEGIN:VTIMEZONE
TZID:Europe/Helsinki
X-LIC-LOCATION:Europe/Helsinki
BEGIN:DAYLIGHT
DTSTART:20260329T040000
TZNAME:EEST
TZOFFSETFROM:+0200
TZOFFSETTO:+0300
END:DAYLIGHT
END:VTIMEZONE
END:VCALENDAR
