BEGIN:VCALENDAR
VERSION:2.0
PRODID:-//Plone.org//NONSGML plone.app.event//EN
X-WR-TIMEZONE:Europe/Helsinki
BEGIN:VEVENT
SUMMARY:Peer learning summit: addressing climate change through integrated
  responses
DTSTART;TZID=Europe/Helsinki:20210504T100000
DTEND;TZID=Europe/Helsinki:20210525T120000
DTSTAMP:20260419T183109Z
UID:609aabe720164dd2babf3639b924a27a@varnish:6081
CATEGORIES:event
CONTACT:https://www.napglobalnetwork.org/event/pls-addressing-climate-chan
 ge-through-integrated-responses/
CREATED:20210324T155928Z
DESCRIPTION:In three virtual sessions of two hours on 4\, 18 and 25 May\, 
 learning and capacity development activities will be organised to support 
 countries in designing and applying integrated approaches in their adaptat
 ion\, mitigation\, and development agendas.
LAST-MODIFIED:20220910T183615Z
LOCATION:Online
URL:https://climate-adapt.eea.europa.eu/en/more-events/peer-learning-summi
 t-addressing-climate-change-through-integrated-responses
END:VEVENT
BEGIN:VTIMEZONE
TZID:Europe/Helsinki
X-LIC-LOCATION:Europe/Helsinki
BEGIN:DAYLIGHT
DTSTART:20210328T040000
TZNAME:EEST
TZOFFSETFROM:+0200
TZOFFSETTO:+0300
END:DAYLIGHT
END:VTIMEZONE
END:VCALENDAR
