BEGIN:VCALENDAR
VERSION:2.0
PRODID:-//Plone.org//NONSGML plone.app.event//EN
X-WR-TIMEZONE:Europe/Helsinki
BEGIN:VEVENT
SUMMARY:Webinar about recent released EEA report on Nature-based solutions
DTSTART;TZID=Europe/Helsinki:20210510T120000
DTEND;TZID=Europe/Helsinki:20210510T130000
DTSTAMP:20260420T045501Z
UID:39a87363b6f14fd484abff926024d8a0@varnish:6081
CATEGORIES:NBS,event
CONTACT:https://www.cmcc.it/lectures_conferences/climate-change-adaptation
 -and-disaster-risk-reduction-in-europe-a-new-eea-report-on-nature-based-so
 lutions
CREATED:20210504T071634Z
DESCRIPTION:The report “Nature-based solutions in Europe: Policy\, knowl
 edge and practice for climate change adaptation and disaster risk reductio
 n” is aiming to provide up-to-date information on how NbS can provide mu
 lti-benefit measures for climate change adaptation and disaster risk reduc
 tion in Europe. The EEA report has recently been published and will be int
 roduced during this webinar.
LAST-MODIFIED:20220910T183615Z
LOCATION:Webinar
URL:https://climate-adapt.eea.europa.eu/en/more-events/webinar-about-a-rec
 ent-released-eea-report-on-nature-based-solutions
END:VEVENT
BEGIN:VTIMEZONE
TZID:Europe/Helsinki
X-LIC-LOCATION:Europe/Helsinki
BEGIN:DAYLIGHT
DTSTART:20210328T040000
TZNAME:EEST
TZOFFSETFROM:+0200
TZOFFSETTO:+0300
END:DAYLIGHT
END:VTIMEZONE
END:VCALENDAR
