BEGIN:VCALENDAR
VERSION:2.0
PRODID:-//Plone.org//NONSGML plone.app.event//EN
X-WR-TIMEZONE:Europe/Helsinki
BEGIN:VEVENT
SUMMARY:Webinar: data sources for developing and implementing urban adapta
 tion plans in Poland
DTSTART;TZID=Europe/Helsinki:20250402T110000
DTEND;TZID=Europe/Helsinki:20250402T133000
DTSTAMP:20260421T051552Z
UID:7788d87ff6784aa1bd471ea0904d3c50@climate-adapt.eea.europa.eu
CATEGORIES:event,webinar,climate adaptation plan
CONTACT:https://klimat.webex.com/weblink/register/re9bf603c684605f260b1ac3
 ef38335f9
CREATED:20250328T093616Z
DESCRIPTION:This webinar hosted by the Polish Ministry of Climate and Envi
 ronment (Ministerstwo Klimatu i Środowiska) provides an overview of avail
 able data sources\, both at the Polish and European levels. Participants w
 ill gain insights into how to effectively utilize these data sources for d
 eveloping and implementing urban adaptation plans\, with a focus on practi
 cal tools\, methodologies\, and case studies. The webinar will be held in 
 Polish\, with simultaneous translation to English.
LAST-MODIFIED:20250331T114844Z
LOCATION:Online
URL:https://climate-adapt.eea.europa.eu/en/more-events/webinar-data-source
 s-for-developing-and-implementing-urban-adaptation-plans
END:VEVENT
BEGIN:VTIMEZONE
TZID:Europe/Helsinki
X-LIC-LOCATION:Europe/Helsinki
BEGIN:DAYLIGHT
DTSTART:20250330T040000
TZNAME:EEST
TZOFFSETFROM:+0200
TZOFFSETTO:+0300
END:DAYLIGHT
END:VTIMEZONE
END:VCALENDAR
