BEGIN:VCALENDAR
VERSION:2.0
PRODID:-//Plone.org//NONSGML plone.app.event//EN
X-WR-TIMEZONE:Europe/Helsinki
BEGIN:VEVENT
SUMMARY:Webinar on physical climate risk and finance
DTSTART;TZID=Europe/Helsinki:20210217T153000
DTEND;TZID=Europe/Helsinki:20210217T170000
DTSTAMP:20260422T125329Z
UID:c3c9fd5055f44512a669ee4490541ab7@varnish:6081
CATEGORIES:event
CONTACT:https://www.cicero.oslo.no/en/climinvest/invitation-to-webinar-17-
 february-physical-climate-risk-and-finance
CREATED:20210210T155308Z
DESCRIPTION:Financial costs of climate change are rising\, and investors n
 eed more transparent information to manage their physical risks. The ERA4C
 S project ClimINVEST brings together climate scientists and experts and fi
 nancial actors to collaborate on improved tools and information.
LAST-MODIFIED:20220910T183615Z
URL:https://climate-adapt.eea.europa.eu/en/more-events/webinar-on-physical
 -climate-risk-and-finance
END:VEVENT
BEGIN:VTIMEZONE
TZID:Europe/Helsinki
X-LIC-LOCATION:Europe/Helsinki
BEGIN:STANDARD
DTSTART:20201025T030000
TZNAME:EET
TZOFFSETFROM:+0300
TZOFFSETTO:+0200
END:STANDARD
END:VTIMEZONE
END:VCALENDAR
