BEGIN:VCALENDAR
VERSION:2.0
PRODID:-//Plone.org//NONSGML plone.app.event//EN
X-WR-TIMEZONE:Europe/Helsinki
BEGIN:VEVENT
SUMMARY:IANPHI Webinar on Developing Indicators to Drive Relevant Action o
 n Climate Change and Health
DTSTART;TZID=Europe/Helsinki:20221114T160000
DTEND;TZID=Europe/Helsinki:20221114T173000
DTSTAMP:20260422T065947Z
UID:23397243ba8643dd806f14b1b4c4be3a@varnish:6081
CATEGORIES:Climate and health crisis,climate indicators,Resilient and heal
 thy communities
CONTACT:https://emory.zoom.us/webinar/register/WN_Pc3wSmzyQdK2n8xeIBXkuA
CREATED:20221103T081246Z
DESCRIPTION:Indicators are critical tools to track and capture climate-ind
 uced health impacts\, harness evidence and implement effective public heal
 th interventions. They are key tools to enhance the capacity of national p
 ublic health institutes (NPHIs). In this webinar\, several NPHIs will talk
  about their own experiences developing and using indicators and the chall
 enges they face. Also indicators developed by international initiatives\, 
 including the European Climate and Health Observatory and the Lancet Count
 down\, will be discussed.
LAST-MODIFIED:20240404T074207Z
LOCATION:Online
URL:https://climate-adapt.eea.europa.eu/en/observatory/ianphi-webinar-on-d
 eveloping-indicators-to-drive-relevant-action-on-climate-change-and-health
END:VEVENT
BEGIN:VTIMEZONE
TZID:Europe/Helsinki
X-LIC-LOCATION:Europe/Helsinki
BEGIN:STANDARD
DTSTART:20221030T030000
TZNAME:EET
TZOFFSETFROM:+0300
TZOFFSETTO:+0200
END:STANDARD
END:VTIMEZONE
END:VCALENDAR
