BEGIN:VCALENDAR
VERSION:2.0
PRODID:-//Plone.org//NONSGML plone.app.event//EN
X-WR-TIMEZONE:Europe/Helsinki
BEGIN:VEVENT
SUMMARY:5.ª Plataforma Mundial para la Reducción del Riesgo de Desastres
DTSTART;TZID=Europe/Helsinki:20170522T030000
DTEND;TZID=Europe/Helsinki:20170527T025959
DTSTAMP:20260420T151513Z
UID:9324a8cda42740f0b562d1137611360a@climate-adapt.eea.europa.eu
CONTACT:http://www.unisdr.org/conferences/2017/globalplatform
CREATED:20220910T211832Z
DESCRIPTION:Foro internacional dedicado al Marco de Sendai para la Reducci
 ón del Riesgo de Desastres 2015-2030\, adoptado por los Estados miembros 
 de las Naciones Unidas en 2015.
LAST-MODIFIED:20220925T174323Z
LOCATION:Cancun\, Mexico
URL:https://climate-adapt.eea.europa.eu/es/more-events/5th-global-platform
 -for-disaster-risk-reduction
END:VEVENT
BEGIN:VTIMEZONE
TZID:Europe/Helsinki
X-LIC-LOCATION:Europe/Helsinki
BEGIN:DAYLIGHT
DTSTART:20170326T040000
TZNAME:EEST
TZOFFSETFROM:+0200
TZOFFSETTO:+0300
END:DAYLIGHT
END:VTIMEZONE
END:VCALENDAR
