BEGIN:VCALENDAR
VERSION:2.0
PRODID:-//Plone.org//NONSGML plone.app.event//EN
X-WR-TIMEZONE:Europe/Helsinki
BEGIN:VEVENT
SUMMARY:Futuros de adaptación 2016: prácticas y soluciones
DTSTART;TZID=Europe/Helsinki:20160510T030000
DTEND;TZID=Europe/Helsinki:20160511T025959
DTSTAMP:20260420T194727Z
UID:8c9ee9455c7f4246955941218c0521cb@climate-adapt.eea.europa.eu
CONTACT:http://www.adaptationfutures2016.org/
CREATED:20220910T211815Z
LAST-MODIFIED:20220925T174318Z
LOCATION:Rotterdam\, The Netherlands
URL:https://climate-adapt.eea.europa.eu/es/more-events/adaptation-futures-
 2016-practices-and-solutions
END:VEVENT
BEGIN:VTIMEZONE
TZID:Europe/Helsinki
X-LIC-LOCATION:Europe/Helsinki
BEGIN:DAYLIGHT
DTSTART:20160327T040000
TZNAME:EEST
TZOFFSETFROM:+0200
TZOFFSETTO:+0300
END:DAYLIGHT
END:VTIMEZONE
END:VCALENDAR
