BEGIN:VCALENDAR
VERSION:2.0
PRODID:-//Plone.org//NONSGML plone.app.event//EN
X-WR-TIMEZONE:Europe/Helsinki
BEGIN:VEVENT
SUMMARY:Seminario web de Deltares: Herramientas y servicios de adaptación
  al cambio climático para las ciudades & Autoridades locales
DTSTART;TZID=Europe/Helsinki:20241126T103000
DTEND;TZID=Europe/Helsinki:20241126T133000
DTSTAMP:20260421T035124Z
UID:d51b5733f480456daf287dfbddc16888@climate-adapt.eea.europa.eu
CATEGORIES:event,webinar,tools
CONTACT:https://reachout-cities.eu/join-our-webinar-on-26-november-climate
 -adaptation-tools-and-services-for-cities-local-authorities/
CREATED:20241120T103123Z
DESCRIPTION:El seminario web tiene como objetivo reunir a representantes d
 e ciudades y regiones\, proveedores de herramientas\, expertos en adaptaci
 ón al clima y socios de investigación para explorar herramientas prácti
 cas para la adaptación al clima y fomentar la colaboración en toda Europ
 a. Organizado como parte del Programa de Aprendizaje REACHOUT financiado p
 or la UE\, este evento se dirige principalmente a los municipios y autorid
 ades locales de la UE centrados en desarrollar la resiliencia climática y
  acelerar los esfuerzos de adaptación.
LAST-MODIFIED:20250422T182647Z
LOCATION:Online
URL:https://climate-adapt.eea.europa.eu/es/more-events/deltares-webinar-cl
 imate-adaptation-tools-and-services-for-cities-local-authorities
END:VEVENT
BEGIN:VTIMEZONE
TZID:Europe/Helsinki
X-LIC-LOCATION:Europe/Helsinki
BEGIN:STANDARD
DTSTART:20241027T030000
TZNAME:EET
TZOFFSETFROM:+0300
TZOFFSETTO:+0200
END:STANDARD
END:VTIMEZONE
END:VCALENDAR
