BEGIN:VCALENDAR
VERSION:2.0
PRODID:-//Plone.org//NONSGML plone.app.event//EN
X-WR-TIMEZONE:Europe/Helsinki
BEGIN:VEVENT
SUMMARY:Presentación del informe de la AEMA: Resiliencia justa en Europa
DTSTART;TZID=Europe/Helsinki:20250610T103000
DTEND;TZID=Europe/Helsinki:20250610T114500
DTSTAMP:20260422T075452Z
UID:8c1b51b5e25c49799f0be5ae979ca951@climate-adapt.eea.europa.eu
CATEGORIES:event,launch,EEA,just resilience
CONTACT:https://www.eea.europa.eu/en/newsroom/events/just-resilience-in-eu
 rope-report-launch
CREATED:20250528T055512Z
DESCRIPTION:Equidad social en la preparación para el cambio climático: c
 ómo la resiliencia justa puede beneficiar a las comunidades de toda Europ
 a»\, que se publicará el 10 de junio de 2025\, se centra en los avances 
 y las formas de incluir a los grupos más vulnerables en las políticas y 
 acciones europeas de adaptación al cambio climático. Durante el evento d
 e lanzamiento\, varios oradores presentarán sus perspectivas sobre el tem
 a.
LAST-MODIFIED:20250528T055513Z
LOCATION:Online
URL:https://climate-adapt.eea.europa.eu/es/more-events/eea-report-launch-j
 ust-resilience-in-europe
END:VEVENT
BEGIN:VTIMEZONE
TZID:Europe/Helsinki
X-LIC-LOCATION:Europe/Helsinki
BEGIN:DAYLIGHT
DTSTART:20250330T040000
TZNAME:EEST
TZOFFSETFROM:+0200
TZOFFSETTO:+0300
END:DAYLIGHT
END:VTIMEZONE
END:VCALENDAR
