BEGIN:VCALENDAR
VERSION:2.0
PRODID:-//Plone.org//NONSGML plone.app.event//EN
X-WR-TIMEZONE:Europe/Helsinki
BEGIN:VEVENT
SUMMARY:Semana Verde de la UE 2019
DTSTART;TZID=Europe/Helsinki:20190513T010000
DTEND;TZID=Europe/Helsinki:20190518T005959
DTSTAMP:20260421T062804Z
UID:c9a29981c77e4e87b5d4ee6f1c87aee5@climate-adapt.eea.europa.eu
CONTACT:https://ec.europa.eu/info/events/eu-green-week-2019_en
CREATED:20220910T211902Z
DESCRIPTION:La edición de 2019 de la Semana Verde de la UE pondrá de rel
 ieve el proceso de aplicación del medio ambiente. Incluirá actos en toda
  Europa\, con el acto oficial de inauguración el 13 de mayo en uno de los
  Estados miembros de la UE y una cumbre de alto nivel en Bruselas del 15 a
 l 17 de mayo. El cierre de la Semana Verde tendrá lugar al final de la co
 nferencia de Bruselas y mostrará las conclusiones políticas de la Semana
 .
LAST-MODIFIED:20220925T174335Z
LOCATION:Location: across Europe
URL:https://climate-adapt.eea.europa.eu/es/more-events/eu-green-week-2019
END:VEVENT
BEGIN:VTIMEZONE
TZID:Europe/Helsinki
X-LIC-LOCATION:Europe/Helsinki
BEGIN:DAYLIGHT
DTSTART:20190331T040000
TZNAME:EEST
TZOFFSETFROM:+0200
TZOFFSETTO:+0300
END:DAYLIGHT
END:VTIMEZONE
END:VCALENDAR
