BEGIN:VCALENDAR
VERSION:2.0
PRODID:-//Plone.org//NONSGML plone.app.event//EN
X-WR-TIMEZONE:Europe/Helsinki
BEGIN:VEVENT
SUMMARY:Jornadas informativas sobre el Programa LIFE de la UE
DTSTART;VALUE=DATE:20250513
DTEND;VALUE=DATE:20250517
DTSTAMP:20260421T160353Z
UID:b569b8f1a1744aceb3f24912c37f1e1e@climate-adapt.eea.europa.eu
CATEGORIES:event,LIFE
CONTACT:https://vo-europe.swoogo.com/eu-life-info-days-2025/Home
CREATED:20250422T174432Z
DESCRIPTION:Las Jornadas de Información LIFE de la UE 2025 muestran las p
 róximas convocatorias de propuestas\, incluido el subprograma de Mitigaci
 ón y Adaptación al Cambio Climático. El programa LIFE cofinancia proyec
 tos en los ámbitos de la adaptación urbana y la planificación del uso d
 el suelo\, la resiliencia de las infraestructuras\, la gestión sostenible
  del agua en zonas propensas a la sequía\, la gestión de las inundacione
 s y las costas\, la resiliencia de los sectores agrícola\, forestal y tur
 ístico\, o el apoyo a las regiones ultraperiféricas de la UE: preparaci
 ón frente a fenómenos meteorológicos extremos\, especialmente en las zo
 nas costeras. Proporciona subvenciones para acciones concretas destinadas 
 a proyectos piloto\, de demostración y de mejores prácticas que contribu
 yen a aumentar la resiliencia al cambio climático.
LAST-MODIFIED:20250422T174433Z
LOCATION:Online
URL:https://climate-adapt.eea.europa.eu/es/more-events/eu-life-info-days
END:VEVENT
END:VCALENDAR
