BEGIN:VCALENDAR
VERSION:2.0
PRODID:-//Plone.org//NONSGML plone.app.event//EN
X-WR-TIMEZONE:Europe/Helsinki
BEGIN:VEVENT
SUMMARY:Seminario web interactivo MIP4Adapt: Condiciones favorables para l
 as soluciones basadas en la naturaleza
DTSTART;TZID=Europe/Helsinki:20260326T110000
DTEND;TZID=Europe/Helsinki:20260326T123000
DTSTAMP:20260419T155817Z
UID:1d6a8325cf4c4963868843f5dd1b3334@climate-adapt.eea.europa.eu
CATEGORIES:webinar,MIP4Adapt
CONTACT:https://futurium.ec.europa.eu/en/eu-mission-adaptation-community/e
 vents/making-nature-based-solutions-work-enabling-conditions-practice-even
 t-organised-mip4adapt
CREATED:20260302T180158Z
DESCRIPTION:Este evento en línea organizado por MIP4Adapt reúne a autori
 dades regionales y locales\, responsables políticos y profesionales para 
 explorar qué permite la implementación exitosa de soluciones basadas en 
 la naturaleza (NbS) en toda Europa.  Los participantes explorarán cómo 
 los enfoques de financiación\, creación conjunta y gobernanza pueden apo
 yar la adopción y la ampliación de la NbS.
LAST-MODIFIED:20260302T180158Z
LOCATION:Online
URL:https://climate-adapt.eea.europa.eu/es/more-events/exchanging-knowledg
 e-enabling-conditions-for-nature-based-solutions
END:VEVENT
BEGIN:VTIMEZONE
TZID:Europe/Helsinki
X-LIC-LOCATION:Europe/Helsinki
BEGIN:STANDARD
DTSTART:20251026T030000
TZNAME:EET
TZOFFSETFROM:+0300
TZOFFSETTO:+0200
END:STANDARD
END:VTIMEZONE
END:VCALENDAR
