BEGIN:VCALENDAR
VERSION:2.0
PRODID:-//Plone.org//NONSGML plone.app.event//EN
X-WR-TIMEZONE:Europe/Helsinki
BEGIN:VEVENT
SUMMARY:Conferencia sobre el riesgo de inundación 2016
DTSTART;TZID=Europe/Helsinki:20161017T100000
DTEND;TZID=Europe/Helsinki:20161021T235500
DTSTAMP:20260419T145847Z
UID:233633ab31fe4882af1faae209499392@climate-adapt.eea.europa.eu
CONTACT:http://floodrisk2016.net/
CREATED:20220910T211842Z
DESCRIPTION:Floodrisk 2016 explorará los avances de la investigación en 
 el análisis del riesgo de inundación y las innovaciones en la práctica 
 de gestión del riesgo de inundación. La conferencia examinará todos los
  aspectos del riesgo de inundación y abordará las causas de las inundaci
 ones\, sus repercusiones en las personas\, los bienes y el medio ambiente\
 , así como las carteras de medidas de gestión de riesgos.
LAST-MODIFIED:20220925T174326Z
LOCATION:Lyon\, France
URL:https://climate-adapt.eea.europa.eu/es/more-events/floodrisk-2016-conf
 erence
END:VEVENT
BEGIN:VTIMEZONE
TZID:Europe/Helsinki
X-LIC-LOCATION:Europe/Helsinki
BEGIN:DAYLIGHT
DTSTART:20160327T040000
TZNAME:EEST
TZOFFSETFROM:+0200
TZOFFSETTO:+0300
END:DAYLIGHT
END:VTIMEZONE
END:VCALENDAR
