BEGIN:VCALENDAR
VERSION:2.0
PRODID:-//Plone.org//NONSGML plone.app.event//EN
X-WR-TIMEZONE:Europe/Helsinki
BEGIN:VEVENT
SUMMARY:Inauguración del Congreso Mundial del ICLEI
DTSTART;TZID=Europe/Helsinki:20210412T010000
DTEND;TZID=Europe/Helsinki:20210416T005959
DTSTAMP:20260421T034731Z
UID:ba5401a163e246ecb4b444f21fd88d1b@climate-adapt.eea.europa.eu
CONTACT:https://worldcongress.iclei.org/updates/day-1/
CREATED:20220910T211928Z
DESCRIPTION:Este acto de lanzamiento digital consistirá en debates mundia
 les de alto nivel\, reflexivos y sobre las contribuciones de las ciudades 
 y regiones a un futuro sostenible\, seguidos de una experiencia de un año
  para reunir a los gobiernos locales y regionales de la red ICLEI a pesar 
 de la pandemia. La adaptación al cambio climático se debatirá principal
 mente el último día de este acto inaugural.
LAST-MODIFIED:20220925T175817Z
LOCATION:Online
URL:https://climate-adapt.eea.europa.eu/es/more-events/iclei-world-congres
 s-launch
END:VEVENT
BEGIN:VTIMEZONE
TZID:Europe/Helsinki
X-LIC-LOCATION:Europe/Helsinki
BEGIN:DAYLIGHT
DTSTART:20210328T040000
TZNAME:EEST
TZOFFSETFROM:+0200
TZOFFSETTO:+0300
END:DAYLIGHT
END:VTIMEZONE
END:VCALENDAR
