BEGIN:VCALENDAR
VERSION:2.0
PRODID:-//Plone.org//NONSGML plone.app.event//EN
X-WR-TIMEZONE:Europe/Helsinki
BEGIN:VEVENT
SUMMARY:Conferencia Interreg sobre la región del Mar Báltico 2025
DTSTART;VALUE=DATE:20250520
DTEND;VALUE=DATE:20250523
DTSTAMP:20260422T001808Z
UID:5ba47698ca014aa9a2bb78f72ad14c65@climate-adapt.eea.europa.eu
CATEGORIES:baltic,event
CONTACT:https://interreg-baltic.eu/event/ibsr-programme-conference-2025/
CREATED:20250513T132223Z
DESCRIPTION:Una conferencia de tres días sobre la cooperación transnacio
 nal de las regiones del Mar Báltico\, con sesiones sobre prácticas de pr
 esupuestación climática y visitas a proyectos en la región de Tampere.
LAST-MODIFIED:20250513T132223Z
LOCATION:Tampere\, Finland
URL:https://climate-adapt.eea.europa.eu/es/more-events/interreg-baltic-sea
 -region-conference-2025
END:VEVENT
END:VCALENDAR
