BEGIN:VCALENDAR
VERSION:2.0
PRODID:-//Plone.org//NONSGML plone.app.event//EN
X-WR-TIMEZONE:Europe/Helsinki
BEGIN:VEVENT
SUMMARY:Soluciones basadas en la naturaleza: Liberar el potencial urbano
DTSTART;TZID=Europe/Helsinki:20200924T010000
DTEND;TZID=Europe/Helsinki:20200925T005959
DTSTAMP:20260419T215531Z
UID:e5345a53c41e4c6e8ba6e30b07ab809c@climate-adapt.eea.europa.eu
CONTACT:https://naturvation.eu/conference-2020
CREATED:20220910T211907Z
DESCRIPTION:Esta conferencia virtual NATURVATION generará nuevas perspect
 ivas sobre la manera en que las soluciones basadas en la naturaleza pueden
  ofrecer una sostenibilidad tanto local como mundial. Se tratará de una c
 ombinación de charlas principales\, mesas redondas y sesiones interactiva
 s en las que los participantes compartirán ideas\, conocimientos especial
 izados y experiencia práctica.
LAST-MODIFIED:20220925T174410Z
LOCATION:Online
URL:https://climate-adapt.eea.europa.eu/es/more-events/nature-based-soluti
 ons-unlocking-urban-potential
END:VEVENT
BEGIN:VTIMEZONE
TZID:Europe/Helsinki
X-LIC-LOCATION:Europe/Helsinki
BEGIN:DAYLIGHT
DTSTART:20200329T040000
TZNAME:EEST
TZOFFSETFROM:+0200
TZOFFSETTO:+0300
END:DAYLIGHT
END:VTIMEZONE
END:VCALENDAR
