BEGIN:VCALENDAR
VERSION:2.0
PRODID:-//Plone.org//NONSGML plone.app.event//EN
X-WR-TIMEZONE:Europe/Helsinki
BEGIN:VEVENT
SUMMARY:Evento "Mejores Ciudades" del Futuro Urbano
DTSTART;VALUE=DATE:20260324
DTEND;VALUE=DATE:20260328
DTSTAMP:20260421T180922Z
UID:d09b55444b654da9bd7c217dc4560c79@climate-adapt.eea.europa.eu
CATEGORIES:Cities,Event
CONTACT:https://urban-future.org/event/uf26-ljubljana/
CREATED:20260120T092406Z
DESCRIPTION:Organizado por Austrian Urban Future (UFGC GmbH)\, los lídere
 s de la ciudad y los agentes de cambio se reúnen en Liubliana para hacer 
 avanzar mejores ciudades. La adaptación al cambio climático se aborda pr
 incipalmente en la vía 4\, «Sociedades resilientes». Urban Future apoya
  un movimiento ascendente en Europa con una comunidad global de 50.000 age
 ntes de cambio urbano.
LAST-MODIFIED:20260120T092504Z
LOCATION:Ljubljana\, Slovenia
URL:https://climate-adapt.eea.europa.eu/es/more-events/the-uf-better-citie
 s-event
END:VEVENT
END:VCALENDAR
