BEGIN:VCALENDAR
VERSION:2.0
PRODID:-//Plone.org//NONSGML plone.app.event//EN
X-WR-TIMEZONE:Europe/Helsinki
BEGIN:VEVENT
SUMMARY:Conferencia Mundial sobre el Futuro Urbano
DTSTART;TZID=Europe/Helsinki:20141118T020000
DTEND;TZID=Europe/Helsinki:20141119T015959
DTSTAMP:20260422T051736Z
UID:7ce5949aca6143dea5d9c00be1e73a5f@climate-adapt.eea.europa.eu
CONTACT:http://www.urban-future.at/en
CREATED:20220910T211826Z
LAST-MODIFIED:20220925T174321Z
LOCATION:Graz\, Austria
URL:https://climate-adapt.eea.europa.eu/es/more-events/urban-future-global
 -conference
END:VEVENT
BEGIN:VTIMEZONE
TZID:Europe/Helsinki
X-LIC-LOCATION:Europe/Helsinki
BEGIN:STANDARD
DTSTART:20141026T030000
TZNAME:EET
TZOFFSETFROM:+0300
TZOFFSETTO:+0200
END:STANDARD
END:VTIMEZONE
END:VCALENDAR
