BEGIN:VCALENDAR
VERSION:2.0
PRODID:-//Plone.org//NONSGML plone.app.event//EN
X-WR-TIMEZONE:Europe/Helsinki
BEGIN:VEVENT
SUMMARY:Seminario web: Fuentes de datos para el desarrollo y la aplicació
 n de planes de adaptación urbana en Polonia
DTSTART;TZID=Europe/Helsinki:20250402T110000
DTEND;TZID=Europe/Helsinki:20250402T133000
DTSTAMP:20260422T043311Z
UID:61e8032146044b89b7d5e9c0f5fdae4c@climate-adapt.eea.europa.eu
CATEGORIES:event,webinar,climate adaptation plan
CONTACT:https://klimat.webex.com/weblink/register/re9bf603c684605f260b1ac3
 ef38335f9
CREATED:20250422T204550Z
DESCRIPTION:Este seminario web organizado por el Ministerio de Clima y Med
 io Ambiente de Polonia (Ministerstwo Klimatu i Środowiska) ofrece una vis
 ión general de las fuentes de datos disponibles\, tanto a nivel polaco co
 mo europeo. Los participantes obtendrán información sobre cómo utilizar
  eficazmente estas fuentes de datos para desarrollar e implementar planes 
 de adaptación urbana\, con un enfoque en herramientas prácticas\, metodo
 logías y estudios de casos. El webinar se llevará a cabo en polaco\, con
  traducción simultánea al inglés.
LAST-MODIFIED:20250422T204551Z
LOCATION:Online
URL:https://climate-adapt.eea.europa.eu/es/more-events/webinar-data-source
 s-for-developing-and-implementing-urban-adaptation-plans
END:VEVENT
BEGIN:VTIMEZONE
TZID:Europe/Helsinki
X-LIC-LOCATION:Europe/Helsinki
BEGIN:DAYLIGHT
DTSTART:20250330T040000
TZNAME:EEST
TZOFFSETFROM:+0200
TZOFFSETTO:+0300
END:DAYLIGHT
END:VTIMEZONE
END:VCALENDAR
