BEGIN:VCALENDAR
VERSION:2.0
PRODID:-//Plone.org//NONSGML plone.app.event//EN
X-WR-TIMEZONE:Europe/Helsinki
BEGIN:VEVENT
SUMMARY:Seminario web sobre Climate-ADAPT — Herramientas urbanas
DTSTART;TZID=Europe/Helsinki:20191023T120000
DTEND;TZID=Europe/Helsinki:20191023T130000
DTSTAMP:20260421T133131Z
UID:e04861aeb3e3410fa452a2bc84a76a1b@climate-adapt.eea.europa.eu
CREATED:20220910T211811Z
DESCRIPTION:El objetivo de este sexto seminario web de la Plataforma Europ
 ea de Adaptación al Clima (Climate-ADAPT) es mejorar el conocimiento de l
 os elementos y herramientas de conocimiento urbano Climate-ADAPT y promove
 r su uso\, por ejemplo\, para la planificación local\, la sensibilizació
 n\, los procesos participativos y la formulación de proyectos.
LAST-MODIFIED:20220925T174254Z
LOCATION:webinar
URL:https://climate-adapt.eea.europa.eu/es/more-events/webinar-on-climate-
 adapt-urban-tools
END:VEVENT
BEGIN:VTIMEZONE
TZID:Europe/Helsinki
X-LIC-LOCATION:Europe/Helsinki
BEGIN:DAYLIGHT
DTSTART:20190331T040000
TZNAME:EEST
TZOFFSETFROM:+0200
TZOFFSETTO:+0300
END:DAYLIGHT
END:VTIMEZONE
END:VCALENDAR
