BEGIN:VCALENDAR
VERSION:2.0
PRODID:-//Plone.org//NONSGML plone.app.event//EN
X-WR-TIMEZONE:Europe/Helsinki
BEGIN:VEVENT
SUMMARY:Seminario web sobre la ordenación del espacio marítimo en un cli
 ma cambiante
DTSTART;TZID=Europe/Helsinki:20230209T120000
DTEND;TZID=Europe/Helsinki:20230209T130000
DTSTAMP:20260419T200344Z
UID:a53237cfe02446dc924a976b9c60fb0d@climate-adapt.eea.europa.eu
CREATED:20230207T123916Z
DESCRIPTION:La ordenación del espacio marítimo tiene por objeto hacer fr
 ente a la creciente demanda de espacio y recursos marinos de los sectores 
 tradicionales y emergentes\, preservando al mismo tiempo los ecosistemas m
 arinos y sus servicios. Al tratarse de un proceso a largo plazo y de gran 
 alcance\, la ordenación del espacio marítimo debe tener en cuenta los ef
 ectos directos e indirectos del cambio climático. El seminario web inform
 ará a los participantes de ciudades y municipios\, condados\, regiones\, 
 autoridades marinas y marítimas\, operadores económicos marítimos y cos
 teros\, universidades y organizaciones de la sociedad civil sobre las repe
 rcusiones del cambio climático y sobre las opciones para hacer que el sec
 tor sea resiliente al cambio climático.
LAST-MODIFIED:20230307T083725Z
LOCATION:En línea
URL:https://climate-adapt.eea.europa.eu/es/more-events/webinar-on-maritime
 -spatial-planning-in-a-changing-climate
END:VEVENT
BEGIN:VTIMEZONE
TZID:Europe/Helsinki
X-LIC-LOCATION:Europe/Helsinki
BEGIN:STANDARD
DTSTART:20221030T030000
TZNAME:EET
TZOFFSETFROM:+0300
TZOFFSETTO:+0200
END:STANDARD
END:VTIMEZONE
END:VCALENDAR
