BEGIN:VCALENDAR
VERSION:2.0
PRODID:-//Plone.org//NONSGML plone.app.event//EN
X-WR-TIMEZONE:Europe/Helsinki
BEGIN:VEVENT
SUMMARY:Programmi LIFE teabepäevad (välisüritus)
DTSTART;VALUE=DATE:20250513
DTEND;VALUE=DATE:20250516
DTSTAMP:20260420T012522Z
UID:2c7319265e674fbbb798656a0fc2153f@climate-adapt.eea.europa.eu
CONTACT:https://vo-europe.swoogo.com/eu-life-info-days-2025/Home
CREATED:20250417T192103Z
DESCRIPTION:13.–15. mai 2025
LAST-MODIFIED:20250417T192103Z
URL:https://climate-adapt.eea.europa.eu/et/mission/events/life-programme-i
 ngo-days-external-event
END:VEVENT
END:VCALENDAR
