BEGIN:VCALENDAR
VERSION:2.0
PRODID:-//Plone.org//NONSGML plone.app.event//EN
X-WR-TIMEZONE:Europe/Helsinki
BEGIN:VEVENT
SUMMARY:„Adaptation Futures 2020“ (COVID-19 ajakohastatud versioon –
 > edasi lükatud)
DTSTART;VALUE=DATE:20200427
DTEND;VALUE=DATE:20200502
DTSTAMP:20260421T015404Z
UID:a58e813494a246448c22c33f327d3a94@varnish:6081
CATEGORIES:event
CONTACT:http://adaptationfutures2020.in/
CREATED:20250417T200938Z
DESCRIPTION:Üleilmset kohanemist käsitleval kuuendal rahvusvahelisel kon
 verentsil „Adaptation Futures“ on kavas edendada üldist teemat „Koh
 anemismeetmete ja teadmiste kiirendamine meetmete toetamiseks“. Konveren
 tsi eesmärk on uurida seda üldist vajadust mitme temaatilise teema kaudu
 .
LAST-MODIFIED:20250417T200938Z
LOCATION:New Delhi\, India
URL:https://climate-adapt.eea.europa.eu/et/more-events/adaptation-futures-
 2020
END:VEVENT
END:VCALENDAR
