BEGIN:VCALENDAR
VERSION:2.0
PRODID:-//Plone.org//NONSGML plone.app.event//EN
X-WR-TIMEZONE:Europe/Helsinki
BEGIN:VEVENT
SUMMARY:COP26 – erakorraline istungjärk: Suure mõjuga kliimalahendused
DTSTART;TZID=Europe/Helsinki:20211110T194500
DTEND;TZID=Europe/Helsinki:20211110T204500
DTSTAMP:20260420T065648Z
UID:f2c6365b3d5d4e8faa5a1e40f0281d3f@varnish:6081
CATEGORIES:Clean technologies,Innovation,Profitable climate solutions,Prof
 itable climate solutions
CONTACT:https://solutions.solarimpulse.com/e-pitch-high-impact-climate-sol
 utions
CREATED:20250417T201202Z
DESCRIPTION:Üritusel näidatakse\, kuidas kõige kasumlikumad kliimalahen
 dused aitavad kaasa COP21 kliimaeesmärkide saavutamisele\, ning algatatak
 se arutelu institutsioonidega\, et kiirendada nende rakendamist. Pärast s
 eda\, kui Euroopa Investeerimispanga peadirektor Chris Hurst ja Bertrand P
 iccard tutvustasid Solar Impulse Foundationi poolt\, tutvustatakse mitut s
 uure mõjuga lahendust eri sektorites\, millele järgneb kaks paneelarutel
 ude vooru.
LAST-MODIFIED:20250417T201203Z
LOCATION:Online and Glasgow\, UK
URL:https://climate-adapt.eea.europa.eu/et/more-events/cop26-2013-special-
 session-high-impact-climate-solutions
END:VEVENT
BEGIN:VTIMEZONE
TZID:Europe/Helsinki
X-LIC-LOCATION:Europe/Helsinki
BEGIN:STANDARD
DTSTART:20211031T030000
TZNAME:EET
TZOFFSETFROM:+0300
TZOFFSETTO:+0200
END:STANDARD
END:VTIMEZONE
END:VCALENDAR
