BEGIN:VCALENDAR
VERSION:2.0
PRODID:-//Plone.org//NONSGML plone.app.event//EN
X-WR-TIMEZONE:Europe/Helsinki
BEGIN:VEVENT
SUMMARY:ELi roheline nädal 2018
DTSTART;TZID=Europe/Helsinki:20180521T100000
DTEND;TZID=Europe/Helsinki:20180525T180000
DTSTAMP:20260419T172157Z
UID:8ba2413cc93d405785d4c18034cf4c0f@varnish:6081
CATEGORIES:event
CONTACT:https://www.eugreenweek.eu/
CREATED:20250417T201346Z
DESCRIPTION:ELi roheline nädal 2018 toimub erinevates Euroopa linnades ja
  selle raames uuritakse võimalusi\, kuidas EL aitab linnadel saada parema
 ks elu- ja töökohaks. Istungeid korraldatakse sellistel teemadel nagu li
 nnaplaneerimine ja -areng seoses kliimamuutustega kohanemisega\, kliimatee
 nused ja kestlike linnade rahastamise toetamine. Samuti edendatakse lähen
 emisviise ja vahendeid parimate tavade jagamiseks\, kohalike omavalitsuste
  ja kodanike kaasamiseks ning nende julgustamiseks jagama oma nägemust ke
 stlikust tulevikust.
LAST-MODIFIED:20250417T201346Z
LOCATION:Different European cities
URL:https://climate-adapt.eea.europa.eu/et/more-events/eu-green-week-2018
END:VEVENT
BEGIN:VTIMEZONE
TZID:Europe/Helsinki
X-LIC-LOCATION:Europe/Helsinki
BEGIN:DAYLIGHT
DTSTART:20180325T040000
TZNAME:EEST
TZOFFSETFROM:+0200
TZOFFSETTO:+0300
END:DAYLIGHT
END:VTIMEZONE
END:VCALENDAR
