BEGIN:VCALENDAR
VERSION:2.0
PRODID:-//Plone.org//NONSGML plone.app.event//EN
X-WR-TIMEZONE:Europe/Helsinki
BEGIN:VEVENT
SUMMARY:ELi roheline nädal 2019
DTSTART;VALUE=DATE:20190513
DTEND;VALUE=DATE:20190519
DTSTAMP:20260421T132815Z
UID:15ba64fe6b9740f99320e819016e4824@varnish:6081
CATEGORIES:event
CONTACT:https://ec.europa.eu/info/events/eu-green-week-2019_en
CREATED:20250417T201348Z
DESCRIPTION:2019. aasta ELi rohelisel nädalal asetatakse tähelepanu kesk
 messe keskkonnapoliitika rakendamise protsess. See hõlmab üritusi kogu E
 uroopas\, mille ametlik avaüritus toimub 13. mail ühes ELi liikmesriigis
  ja kõrgetasemeline tippkohtumine toimub 15.–17. mail Brüsselis. Rohel
 ise nädala lõpetamine toimub Brüsseli konverentsi lõpus ja tutvustab n
 ädala poliitilisi järeldusi.
LAST-MODIFIED:20250417T201348Z
LOCATION:Location: across Europe
URL:https://climate-adapt.eea.europa.eu/et/more-events/eu-green-week-2019
END:VEVENT
END:VCALENDAR
