BEGIN:VCALENDAR
VERSION:2.0
PRODID:-//Plone.org//NONSGML plone.app.event//EN
X-WR-TIMEZONE:Europe/Helsinki
BEGIN:VEVENT
SUMMARY:Kliimamuutustega kohanemise modelleerimist käsitleva uuringu lõp
 pkoosolek
DTSTART;TZID=Europe/Helsinki:20220318T133000
DTEND;TZID=Europe/Helsinki:20220318T150000
DTSTAMP:20260419T200251Z
UID:73d2b9b487d14892a50ab71cc9ad2d34@varnish:6081
CATEGORIES:event,policy making
CONTACT:https://www.cmcc.it/lectures_conferences/study-on-climate-adaptati
 on-modelling-final-briefing
CREATED:20250417T201458Z
DESCRIPTION:Kliimamuutustega kohanemise modelleerimist käsitleva uuringu 
 tulemused\, mille tellis Euroopa Komisjoni kliimameetmete peadirektoraat j
 a mille viis läbi rühm rahvusvahelisi teadlasi\, keda koordineeris CMCC 
 sihtasutus\, keskenduvad kliimamuutustega kohanemise modelleerimisele\, et
  toetada teadlikumat otsuste tegemist. Lõppüritusel arutatakse uuringu t
 ulemusi\, võttes arvesse kliimamuutustega kohanemise poliitikamaastiku hi
 ljutist arengut.
LAST-MODIFIED:20250417T201458Z
LOCATION:Online
URL:https://climate-adapt.eea.europa.eu/et/more-events/final-meeting-on-th
 e-study-on-climate-adaptation-modelling
END:VEVENT
BEGIN:VTIMEZONE
TZID:Europe/Helsinki
X-LIC-LOCATION:Europe/Helsinki
BEGIN:STANDARD
DTSTART:20211031T030000
TZNAME:EET
TZOFFSETFROM:+0300
TZOFFSETTO:+0200
END:STANDARD
END:VTIMEZONE
END:VCALENDAR
