BEGIN:VCALENDAR
VERSION:2.0
PRODID:-//Plone.org//NONSGML plone.app.event//EN
X-WR-TIMEZONE:Europe/Helsinki
BEGIN:VEVENT
SUMMARY:ICP Forests Scientific Conference (COVID-19 ajakohastatud versioon
 )
DTSTART;VALUE=DATE:20200608
DTEND;VALUE=DATE:20200612
DTSTAMP:20260420T045531Z
UID:f4dd9e56ff254ff4a1f0e3114a02b939@varnish:6081
CATEGORIES:event
CONTACT:https://sc2020.thuenen.de/
CREATED:20250417T201611Z
DESCRIPTION:Selle konverentsi 9. väljaandes tõstetakse esile metsadele a
 valduva õhusaaste mõju hindamise ja seire rahvusvahelise koostööprogra
 mmi (ICP) ulatuslikke metsaandmete sarju\, mis käsitlevad metsa kasvu\, f
 enoloogiat\, bioloogilist mitmekesisust\, lehestiku ja allapanu toitumisse
 isundit\, välisõhu kvaliteeti\, sadestumist\, meteoroloogiat\, mulla ja 
 võra seisundit. Tutvustatakse ja arutatakse kohaliku ja Euroopa tasandi u
 uringute viimaseid tulemusi ja järeldusi.
LAST-MODIFIED:20250417T201611Z
LOCATION:Birmensdorf\, Switzerland
URL:https://climate-adapt.eea.europa.eu/et/more-events/icp-forests-scienti
 fic-conference
END:VEVENT
END:VCALENDAR
