BEGIN:VCALENDAR
VERSION:2.0
PRODID:-//Plone.org//NONSGML plone.app.event//EN
X-WR-TIMEZONE:Europe/Helsinki
BEGIN:VEVENT
SUMMARY:Looduspõhised lahendused hüdrometeoroloogilistele ohtudele
DTSTART;VALUE=DATE:20210505
DTEND;VALUE=DATE:20210507
DTSTAMP:20260424T171451Z
UID:83a0b404e90e474a9d76e0b520365c33@varnish:6081
CATEGORIES:event,NBS
CONTACT:https://www.eventbrite.com/e/nature-based-solutions-for-hydro-mete
 orological-hazards-tickets-151778667079
CREATED:20250417T201805Z
DESCRIPTION:Viiendal OPERANDUMi veebiseminaril käsitletakse digitaalset k
 eskust\, mida nimetatakse georuumilise teabe teadmusplatvormiks (GeoIKP). 
 Selle eesmärk on suurendada üldsuse teadlikkust\, teadmisi ja looduspõh
 iste lahenduste kasutuselevõttu hüdrometeoroloogiliste ohtude käsitlemi
 sel ning see võib aidata haavatavatel kogukondadel kliimamuutustega kohan
 eda.
LAST-MODIFIED:20250417T201805Z
LOCATION:Online
URL:https://climate-adapt.eea.europa.eu/et/more-events/nature-based-soluti
 ons-for-hydro-meteorological-hazards
END:VEVENT
END:VCALENDAR
