BEGIN:VCALENDAR
VERSION:2.0
PRODID:-//Plone.org//NONSGML plone.app.event//EN
X-WR-TIMEZONE:Europe/Helsinki
BEGIN:VEVENT
SUMMARY:NetworkNature'i 2024. aasta üritus  ⁇  Müütide lõhkumine: Lo
 odusega inimesed
DTSTART;TZID=Europe/Helsinki:20240925T121500
DTEND;TZID=Europe/Helsinki:20240925T211500
DTSTAMP:20260419T195724Z
UID:2e8768a1ff5849319056ec98d73919fe@climate-adapt.eea.europa.eu
CATEGORIES:event,Nature-Based Solutions,NetworkNature
CONTACT:rachelle.cividino@iucn.org\, https://networknature.eu/networknatur
 e-annual-event-2024-busting-myths-people-nature
CREATED:20240528T144832Z
DESCRIPTION:Selle aasta võrgustiku NetworkNature iga-aastasel konverentsi
 l\, mida rahastatakse ELi programmist „Horisont“ ning Ühendkuningriig
 i teadusuuringute ja innovatsiooni programmist\, keskendutakse müütide k
 ummutamisele seoses ökosüsteemide taastamise ja majandamisega. See ürit
 us keerleb müütide ümber\, et praktika\, teadusuuringud\, poliitikakuju
 ndamine ja äritegevus on lõhkemas või et neid tuleb lõhkuda\, et tuua 
 kaasa muutusi ja pöörata tagasi bioloogilise mitmekesisuse vähenemine. 
 Juhtumiuuringute\, isiklike ja ametialaste teadmiste\, teadusuuringute edu
 sammude ja juhtimisalgatuste kaudu uurivad osalejad inspireerivaid lähene
 misviise inimestele ja loodusele ning nendega koos\, sealhulgas mulla- ja 
 veemajandust\, mis on muu hulgas oluline kliimamuutustega kohanemiseks.
LAST-MODIFIED:20250417T201820Z
LOCATION:Brussels\, Belgium
URL:https://climate-adapt.eea.europa.eu/et/more-events/nn-annual-event-202
 4
END:VEVENT
BEGIN:VTIMEZONE
TZID:Europe/Helsinki
X-LIC-LOCATION:Europe/Helsinki
BEGIN:DAYLIGHT
DTSTART:20240331T040000
TZNAME:EEST
TZOFFSETFROM:+0200
TZOFFSETTO:+0300
END:DAYLIGHT
END:VTIMEZONE
END:VCALENDAR
