BEGIN:VCALENDAR
VERSION:2.0
PRODID:-//Plone.org//NONSGML plone.app.event//EN
X-WR-TIMEZONE:Europe/Helsinki
BEGIN:VEVENT
SUMMARY:Veebiseminar kliimamuutustega kohanemise toetusvahendi Climate-ADA
 PT kohta: praktilised kogemused ja kasutamine poliitika kujundamisel\, kav
 andamisel ja otsuste tegemisel
DTSTART;TZID=Europe/Helsinki:20201118T133000
DTEND;TZID=Europe/Helsinki:20201118T143000
DTSTAMP:20260419T155943Z
UID:ef50fa4392ef4f599cc97a35fcb94af0@varnish:6081
CATEGORIES:event,instrument,policymakers
CREATED:20250417T202128Z
DESCRIPTION:Veebiseminari Climate-ADAPT eesmärk on parandada kliimamuutus
 tega kohanemise toetusvahendi (AST) kohta teadmiste levitamist ja edendada
  selle kasutamist\, näiteks: strateegilised poliitilised protsessid\, tea
 dlikkuse suurendamine\, kavandamine ja suuniste väljatöötamine. Samal a
 jal on veebiseminari eesmärk rõhutada ja tutvustada\, kuidas AST-kategoo
 riat praktikas kasutatakse ja kuidas seda saab kohandada kasutajate tegeli
 kele vajadustele.
LAST-MODIFIED:20250417T202129Z
LOCATION:Climate-ADAPT webinar
URL:https://climate-adapt.eea.europa.eu/et/more-events/the-climate-adapt-a
 daptation-support-tool-practical-experience-and-usage-for-policy-and-decis
 ion-makers
END:VEVENT
BEGIN:VTIMEZONE
TZID:Europe/Helsinki
X-LIC-LOCATION:Europe/Helsinki
BEGIN:STANDARD
DTSTART:20201025T030000
TZNAME:EET
TZOFFSETFROM:+0300
TZOFFSETTO:+0200
END:STANDARD
END:VTIMEZONE
END:VCALENDAR
