BEGIN:VCALENDAR
VERSION:2.0
PRODID:-//Plone.org//NONSGML plone.app.event//EN
X-WR-TIMEZONE:Europe/Helsinki
BEGIN:VEVENT
SUMMARY:Kolmas ülemaailmne kliimamuutuste ja globaalse soojenemise teemal
 ine tippkohtumine 2019
DTSTART;TZID=Europe/Helsinki:20190227T100000
DTEND;TZID=Europe/Helsinki:20190228T180000
DTSTAMP:20260420T045508Z
UID:f159628297934064b46e83c6713230be@varnish:6081
CATEGORIES:event
CONTACT:https://climate.euroscicon.com/
CREATED:20250417T202152Z
DESCRIPTION:EuroSciConi kolmanda konverentsi teema on "Uute horisontide ja
  säästvate tehnoloogiate analüüsimine kliimamuutuste ja globaalse sooj
 enemise vastu võitlemiseks".
LAST-MODIFIED:20250417T202152Z
LOCATION:Prague\, Czech Republic
URL:https://climate-adapt.eea.europa.eu/et/more-events/third-world-summit-
 on-climate-change-and-global-warming
END:VEVENT
BEGIN:VTIMEZONE
TZID:Europe/Helsinki
X-LIC-LOCATION:Europe/Helsinki
BEGIN:STANDARD
DTSTART:20181028T030000
TZNAME:EET
TZOFFSETFROM:+0300
TZOFFSETTO:+0200
END:STANDARD
END:VTIMEZONE
END:VCALENDAR
