BEGIN:VCALENDAR
VERSION:2.0
PRODID:-//Plone.org//NONSGML plone.app.event//EN
X-WR-TIMEZONE:Europe/Helsinki
BEGIN:VEVENT
SUMMARY:IANPHI veebiseminar näitajate väljatöötamise kohta asjakohaste
  meetmete võtmiseks kliimamuutuste ja tervise valdkonnas
DTSTART;TZID=Europe/Helsinki:20221114T160000
DTEND;TZID=Europe/Helsinki:20221114T173000
DTSTAMP:20260421T063629Z
UID:23397243ba8643dd806f14b1b4c4be3a@varnish:6081
CATEGORIES:Climate and health crisis,climate indicators,Resilient and heal
 thy communities
CONTACT:https://emory.zoom.us/webinar/register/WN_Pc3wSmzyQdK2n8xeIBXkuA
CREATED:20250417T180411Z
DESCRIPTION:Näitajad on olulised vahendid kliimast tingitud tervisemõju 
 jälgimiseks ja mõõtmiseks\, tõendite kogumiseks ja tõhusate rahvaterv
 isealaste sekkumismeetmete rakendamiseks. Need on peamised vahendid riikli
 ke tervishoiuasutuste suutlikkuse suurendamiseks. Sellel veebiseminaril r
 äägivad mitmed riiklikud tervisekaitseasutused oma kogemustest näitajat
 e väljatöötamisel ja kasutamisel ning probleemidest\, millega nad silmi
 tsi seisavad. Samuti arutatakse näitajaid\, mille on välja töötanud ra
 hvusvahelised algatused\, sealhulgas Euroopa kliima- ja tervisevaatluskesk
 us ning Lancet Countdown.
LAST-MODIFIED:20250417T180411Z
LOCATION:Online
URL:https://climate-adapt.eea.europa.eu/et/observatory/ianphi-webinar-on-d
 eveloping-indicators-to-drive-relevant-action-on-climate-change-and-health
END:VEVENT
BEGIN:VTIMEZONE
TZID:Europe/Helsinki
X-LIC-LOCATION:Europe/Helsinki
BEGIN:STANDARD
DTSTART:20221030T030000
TZNAME:EET
TZOFFSETFROM:+0300
TZOFFSETTO:+0200
END:STANDARD
END:VTIMEZONE
END:VCALENDAR
