BEGIN:VCALENDAR
VERSION:2.0
PRODID:-//Plone.org//NONSGML plone.app.event//EN
X-WR-TIMEZONE:Europe/Helsinki
BEGIN:VEVENT
SUMMARY:Copernicuksen ilmastonmuutospalvelujen yleiskokous – vuoden 2023
  versio
DTSTART;TZID=Europe/Helsinki:20230912T100000
DTEND;TZID=Europe/Helsinki:20230914T133000
DTSTAMP:20260421T035810Z
UID:85564983417345f99d492a82a9e37040@climate-adapt.eea.europa.eu
CATEGORIES:meeting
CONTACT:https://climate.copernicus.eu/6th-c3s-general-assembly
CREATED:20250411T110805Z
DESCRIPTION:Copernicuksen ilmastonmuutospalvelu (C3S) tarjoaa arvovaltaist
 a tietoa menneestä\, nykyisestä ja tulevasta ilmastosta\, joka tukee sop
 eutumispolitiikkaa Euroopassa. Palvelu pitää kuudennen yleiskokouksensa 
 pohtiakseen aiempia saavutuksia ja muokatakseen yhdessä palvelun tulevais
 uutta. Tämänvuotisessa yleiskokouksessa keskitytään datan kattavuuteen
  ja infrastruktuuriin\, käyttäjien osallistumiseen ja viestintätoimiin 
 sekä uuden Copernicus-energiakeskuksen käynnistämiseen. Kyseessä on tu
 otteita ja tietoa koskeva keskitetty palvelupiste\, joka tukee energia-ala
 a muuttuvassa ilmastossa.
LAST-MODIFIED:20250411T110805Z
LOCATION:Brno\, Czechia
URL:https://climate-adapt.eea.europa.eu/fi/more-events/6th-c3s-general-ass
 embly
END:VEVENT
BEGIN:VTIMEZONE
TZID:Europe/Helsinki
X-LIC-LOCATION:Europe/Helsinki
BEGIN:DAYLIGHT
DTSTART:20230326T040000
TZNAME:EEST
TZOFFSETFROM:+0200
TZOFFSETTO:+0300
END:DAYLIGHT
END:VTIMEZONE
END:VCALENDAR
