BEGIN:VCALENDAR
VERSION:2.0
PRODID:-//Plone.org//NONSGML plone.app.event//EN
X-WR-TIMEZONE:Europe/Helsinki
BEGIN:VEVENT
SUMMARY:EU:n vihreä viikko 2019
DTSTART;VALUE=DATE:20190513
DTEND;VALUE=DATE:20190519
DTSTAMP:20260421T062803Z
UID:15ba64fe6b9740f99320e819016e4824@varnish:6081
CATEGORIES:event
CONTACT:https://ec.europa.eu/info/events/eu-green-week-2019_en
CREATED:20250411T110845Z
DESCRIPTION:Vuoden 2019 EU:n vihreä viikko nostaa esiin ympäristölains
 äädännön täytäntöönpanoprosessin. Se sisältää tapahtumia eri pu
 olilla Eurooppaa\, virallisen avajaistapahtuman 13. toukokuuta yhdessä EU
 :n jäsenvaltiossa ja korkean tason huippukokouksen Brysselissä 15.–17.
  toukokuuta. Vihreän viikon päätöstilaisuus järjestetään Brysselin 
 konferenssin päätteeksi\, ja siinä esitellään viikon poliittisia pä
 ätelmiä.
LAST-MODIFIED:20250411T110845Z
LOCATION:Location: across Europe
URL:https://climate-adapt.eea.europa.eu/fi/more-events/eu-green-week-2019
END:VEVENT
END:VCALENDAR
