BEGIN:VCALENDAR
VERSION:2.0
PRODID:-//Plone.org//NONSGML plone.app.event//EN
X-WR-TIMEZONE:Europe/Helsinki
BEGIN:VEVENT
SUMMARY:EU:n Life-ohjelman tiedotuspäivät
DTSTART;VALUE=DATE:20250513
DTEND;VALUE=DATE:20250517
DTSTAMP:20260419T141939Z
UID:b569b8f1a1744aceb3f24912c37f1e1e@climate-adapt.eea.europa.eu
CATEGORIES:event,LIFE
CONTACT:https://vo-europe.swoogo.com/eu-life-info-days-2025/Home
CREATED:20250422T095713Z
DESCRIPTION:Vuoden 2025 EU:n Life-ohjelman tiedotuspäivillä esitellään
  tulevia ehdotuspyyntöjä\, mukaan lukien alaohjelma ”Ilmastonmuutoksen
  hillitseminen ja siihen sopeutuminen”. Life-ohjelmasta osarahoitetaan h
 ankkeita\, jotka liittyvät kaupunkien sopeutumiseen ja maankäytön suunn
 itteluun\, infrastruktuurin häiriönsietokykyyn\, kestävään vesihuolto
 on kuivuudelle alttiilla alueilla\, tulva- ja rannikkoalueiden hoitoon\, m
 aa- ja metsätalousalan ja matkailualan häiriönsietokykyyn ja/tai EU:n s
 yrjäisimpien alueiden tukemiseen: valmius äärimmäisiin sääilmiöihin
  erityisesti rannikkoalueilla. Siitä myönnetään toiminta-avustuksia pa
 rhaisiin käytäntöihin sekä pilotti- ja demonstrointihankkeisiin\, joil
 la parannetaan kykyä sietää ilmastonmuutosta.
LAST-MODIFIED:20250422T095714Z
LOCATION:Online
URL:https://climate-adapt.eea.europa.eu/fi/more-events/eu-life-info-days
END:VEVENT
END:VCALENDAR
