BEGIN:VCALENDAR
VERSION:2.0
PRODID:-//Plone.org//NONSGML plone.app.event//EN
X-WR-TIMEZONE:Europe/Helsinki
BEGIN:VEVENT
SUMMARY:Konferenssi Eurosoil 2020/2021
DTSTART;VALUE=DATE:20210823
DTEND;VALUE=DATE:20210829
DTSTAMP:20260421T133150Z
UID:a9abb30f895a4af1b653173578165e58@varnish:6081
CATEGORIES:event,event
CONTACT:https://eurosoil2020.com/
CREATED:20250422T100730Z
DESCRIPTION:Konferenssin tavoitteena on saattaa yhteen johtavia tutkijoita
 \, jotka työskentelevät maaperään liittyvien aiheiden parissa\, ja sid
 osryhmiä\, jotka käsittelevät yleistä huolta aiheuttavia kysymyksiä\,
  kuten maaperän huonontumista ja ilmastonmuutoksen seurauksia. Konferenss
 issa korostetaan maaperäalan ammattilaisten tärkeää sillanrakentajaroo
 lia tieteellisen tiedon siirtämisessä käytäntöön.
LAST-MODIFIED:20250422T100730Z
LOCATION:Geneva\, Switzerland
URL:https://climate-adapt.eea.europa.eu/fi/more-events/eurosoil-conference
END:VEVENT
END:VCALENDAR
