BEGIN:VCALENDAR
VERSION:2.0
PRODID:-//Plone.org//NONSGML plone.app.event//EN
X-WR-TIMEZONE:Europe/Helsinki
BEGIN:VEVENT
SUMMARY:ICLEI:n maailmankongressin avajaiset
DTSTART;VALUE=DATE:20210412
DTEND;VALUE=DATE:20210417
DTSTAMP:20260421T063013Z
UID:13e085f06d10403da218b5ab96a09288@varnish:6081
CATEGORIES:event
CONTACT:https://worldcongress.iclei.org/updates/day-1/
CREATED:20250422T100734Z
DESCRIPTION:Tämä digitaalinen avaustapahtuma koostuu korkeatasoisista\, 
 oivaltavista ja globaaleista keskusteluista\, joissa käsitellään kaupun
 kien\, kuntien ja alueiden panosta kestävään tulevaisuuteen\, sekä vuo
 den mittaisesta kokemuksesta ICLEI-verkoston paikallis- ja alueviranomaist
 en saattamiseksi yhteen pandemiasta huolimatta. Ilmastonmuutokseen sopeutu
 misesta keskustellaan pääasiassa tämän laukaisutapahtuman viimeisenä 
 päivänä.
LAST-MODIFIED:20250422T100734Z
LOCATION:Online
URL:https://climate-adapt.eea.europa.eu/fi/more-events/iclei-world-congres
 s-launch
END:VEVENT
END:VCALENDAR
