BEGIN:VCALENDAR
VERSION:2.0
PRODID:-//Plone.org//NONSGML plone.app.event//EN
X-WR-TIMEZONE:Europe/Helsinki
BEGIN:VEVENT
SUMMARY:NetworkNature-vuositapahtuma 2024  ⁇  Myyttien murtaminen: Ihmis
 iä\, joilla on luonto
DTSTART;TZID=Europe/Helsinki:20240925T121500
DTEND;TZID=Europe/Helsinki:20240925T211500
DTSTAMP:20260421T133118Z
UID:2e8768a1ff5849319056ec98d73919fe@climate-adapt.eea.europa.eu
CATEGORIES:event,Nature-Based Solutions,NetworkNature
CONTACT:rachelle.cividino@iucn.org\, https://networknature.eu/networknatur
 e-annual-event-2024-busting-myths-people-nature
CREATED:20240528T145111Z
DESCRIPTION:Tämän vuoden NetworkNature-vuosikonferenssissa\, jota rahoit
 etaan EU:n Horisontti-puiteohjelmasta ja Yhdistyneen kuningaskunnan tutkim
 uksesta ja innovoinnista\, keskitytään ekosysteemien ennallistamiseen ja
  hallintaan liittyvien myyttien murtamiseen. Tämä tapahtuma pyörii myyt
 tien ympärillä\, että käytäntö\, tutkimus\, päätöksenteko ja liik
 etoiminta ovat murtumassa tai että ne on murrettava transformatiivisen mu
 utoksen aikaansaamiseksi ja biologisen monimuotoisuuden häviämisen kää
 ntämiseksi. Tapaustutkimusten\, henkilökohtaisten ja ammatillisten näke
 mysten\, tutkimustulosten ja hallintoaloitteiden avulla osallistujat tutki
 vat inspiroivia lähestymistapoja ihmisille ja luonnolle\, ihmisille ja lu
 onnolle.
LAST-MODIFIED:20240711T123647Z
LOCATION:Brussels\, Belgium
URL:https://climate-adapt.eea.europa.eu/fi/more-events/nn-annual-event-202
 4
END:VEVENT
BEGIN:VTIMEZONE
TZID:Europe/Helsinki
X-LIC-LOCATION:Europe/Helsinki
BEGIN:DAYLIGHT
DTSTART:20240331T040000
TZNAME:EEST
TZOFFSETFROM:+0200
TZOFFSETTO:+0300
END:DAYLIGHT
END:VTIMEZONE
END:VCALENDAR
