BEGIN:VCALENDAR
VERSION:2.0
PRODID:-//Plone.org//NONSGML plone.app.event//EN
X-WR-TIMEZONE:Europe/Helsinki
BEGIN:VEVENT
SUMMARY:RAMSES 3. sidosryhmävuoropuhelu
DTSTART;VALUE=DATE:20161004
DTEND;VALUE=DATE:20161006
DTSTAMP:20260421T003452Z
UID:c26e6b1c74a34095a5356a151ef82467@localhost:8000
CONTACT:http://www.iclei-europe.org/events/?cmd=view&uid=869182bc
CREATED:20250422T100614Z
DESCRIPTION:Vuoropuhelu haavoittuvuuksien ymmärtämisestä\, taloudellist
 en hyötyjen arvioinnista ja ilmastonmuutokseen sopeutumisen muutospotenti
 aalin vapauttamisesta kaupungeissa.
LAST-MODIFIED:20250422T100614Z
LOCATION:Rome\, Italy
URL:https://climate-adapt.eea.europa.eu/fi/more-events/ramses-3rd-stakehol
 der-dialogue
END:VEVENT
END:VCALENDAR
