BEGIN:VCALENDAR
VERSION:2.0
PRODID:-//Plone.org//NONSGML plone.app.event//EN
X-WR-TIMEZONE:Europe/Helsinki
BEGIN:VEVENT
SUMMARY:Ruotsin ilmastosymposium
DTSTART;VALUE=DATE:20220516
DTEND;VALUE=DATE:20220520
DTSTAMP:20260419T153126Z
UID:89444364d7b54f81950a8e7448cbe1c5@varnish:6081
CATEGORIES:Climate modelling,Climate observations,Impact studies
CONTACT:https://swedishclimatesymposium.com/
CREATED:20250422T100819Z
DESCRIPTION:Ruotsin ilmastosymposiumissa tuodaan esiin IPCC:n kuudennen ar
 viointiraportin (AR6) tärkeimmät päätelmät ja sen seuraukset Ruotsill
 e. Useissa ajankohtaisissa rinnakkaisissa istunnoissa esitellään laaja i
 lmastotieteiden asiantuntemus\, mukaan lukien mallinnus\, kokeellinen ja k
 enttätyö\, paleoilmastotieteen rooli\, havainnot\, vaikutustutkimukset\,
  lieventämisstrategiat\, vuorovaikutus biologisen monimuotoisuuden ja eko
 systeemipalvelujen kanssa sekä ilmastonmuutoksen taloudelliset ja hallinn
 olliset näkökohdat.
LAST-MODIFIED:20250422T100819Z
LOCATION:Online and Norrköping\, Sweden
URL:https://climate-adapt.eea.europa.eu/fi/more-events/swedish-climate-sym
 posium
END:VEVENT
END:VCALENDAR
