BEGIN:VCALENDAR
VERSION:2.0
PRODID:-//Plone.org//NONSGML plone.app.event//EN
X-WR-TIMEZONE:Europe/Helsinki
BEGIN:VEVENT
SUMMARY:Vesi-innovointia koskeva Eurooppa 2020 -strategia: Vesiälykäs yh
 teiskunta covid-19-pandemian jälkeistä vihreän kehityksen ohjelmaa vart
 en
DTSTART;VALUE=DATE:20200622
DTEND;VALUE=DATE:20200628
DTSTAMP:20260420T155559Z
UID:4541ace0147b4925b9b191d769bd0430@varnish:6081
CATEGORIES:event,WIE2020
CONTACT:https://waterinnovationeurope.eu/
CREATED:20250422T100834Z
DESCRIPTION:Water Europe isännöi digitaalista innovatiivisen veden viikk
 oa\, jonka aikana järjestetään verkkotäysistuntoja\, työryhmien kokou
 ksia sekä digitaalisia verkostoitumis- ja näyttelymahdollisuuksia. Yksi 
 teemoista on vesitehokkuus ja pitkän aikavälin vesiturvallisuus ilmaston
 muutokseen sopeutumisen yhteydessä.
LAST-MODIFIED:20250422T100834Z
LOCATION:Online
URL:https://climate-adapt.eea.europa.eu/fi/more-events/water-innovation-eu
 rope
END:VEVENT
END:VCALENDAR
