BEGIN:VCALENDAR
VERSION:2.0
PRODID:-//Plone.org//NONSGML plone.app.event//EN
X-WR-TIMEZONE:Europe/Helsinki
BEGIN:VEVENT
SUMMARY:Ilmastonmuutokseen sopeutumista käsittelevä maailmanlaajuinen sy
 mposiumi
DTSTART;VALUE=DATE:20150902
DTEND;VALUE=DATE:20150904
DTSTAMP:20260422T142401Z
UID:60c526ef5b234dd9ad8666c275773d1b@localhost:8001
CONTACT:http://www.haw-hamburg.de/en/wscca-2015.html
CREATED:20250422T100941Z
LAST-MODIFIED:20250422T100941Z
LOCATION:Manchester\, UK
URL:https://climate-adapt.eea.europa.eu/fi/more-events/world-symposium-on-
 climate-change-adaptation
END:VEVENT
END:VCALENDAR
