BEGIN:VCALENDAR
VERSION:2.0
PRODID:-//Plone.org//NONSGML plone.app.event//EN
X-WR-TIMEZONE:Europe/Helsinki
BEGIN:VEVENT
SUMMARY:4e conférence sur la Terre de la mer Baltique
DTSTART;TZID=Europe/Helsinki:20220530T010000
DTEND;TZID=Europe/Helsinki:20220604T005959
DTSTAMP:20260419T234855Z
UID:0adc3dcfe4d04691ac366b7cc854b5e5@climate-adapt.eea.europa.eu
CONTACT:https://www.baltic-earth.eu/events/087774/index.php.en
CREATED:20220910T200125Z
DESCRIPTION:La 4e conférence sur la Terre de la Baltique\, organisée par
  la «Earth System Science for the Baltic Sea Region (Baltic Earth)»\, se
  tiendra à Jastarnia\, dans la péninsule de Hel\, en Pologne\, du 30 mai
  2022 au 03 juin 2022. La conférence couvre les thèmes des rapports d’
 évaluation de la Terre baltique (BEAR)\, qui reflètent la majorité des 
 grands défis et thèmes de recherche de la Terre balte au cours des neuf 
 dernières années. Parmi les sujets à aborder figurent les risques natur
 els et les événements extrêmes\, la dynamique du niveau de la mer et l
 ’érosion côtière\, les options de gestion durable\, l’analyse et la
  modélisation des changements climatiques passés et futurs\, entre autre
 s.
LAST-MODIFIED:20220925T160133Z
LOCATION:Jastarnia\, Hel Peninsula\, Poland
URL:https://climate-adapt.eea.europa.eu/fr/more-events/4th-baltic-earth-co
 nference
END:VEVENT
BEGIN:VTIMEZONE
TZID:Europe/Helsinki
X-LIC-LOCATION:Europe/Helsinki
BEGIN:DAYLIGHT
DTSTART:20220327T040000
TZNAME:EEST
TZOFFSETFROM:+0200
TZOFFSETTO:+0300
END:DAYLIGHT
END:VTIMEZONE
END:VCALENDAR
